Package: GRmetrics Version: 1.35.0 Command: /Library/Frameworks/R.framework/Resources/bin/R CMD build --keep-empty-dirs --no-resave-data GRmetrics StartedAt: 2025-10-24 17:19:17 -0400 (Fri, 24 Oct 2025) EndedAt: 2025-10-24 17:20:09 -0400 (Fri, 24 Oct 2025) EllapsedTime: 52.5 seconds RetCode: 0 Status: OK PackageFile: GRmetrics_1.35.0.tar.gz PackageFileSize: 1.949 MiB