Package: GRaNIE Version: 1.15.0 Command: /Library/Frameworks/R.framework/Resources/bin/R CMD INSTALL GRaNIE StartedAt: 2025-11-26 15:42:14 -0500 (Wed, 26 Nov 2025) EndedAt: 2025-11-26 15:43:21 -0500 (Wed, 26 Nov 2025) EllapsedTime: 67.9 seconds RetCode: 0 Status: OK