Package: GRaNIE Version: 1.15.0 Command: /Library/Frameworks/R.framework/Resources/bin/R CMD build --keep-empty-dirs --no-resave-data GRaNIE StartedAt: 2025-11-26 17:12:35 -0500 (Wed, 26 Nov 2025) EndedAt: 2025-11-26 17:17:00 -0500 (Wed, 26 Nov 2025) EllapsedTime: 264.4 seconds RetCode: 0 Status: OK PackageFile: GRaNIE_1.15.0.tar.gz PackageFileSize: 8.317 MiB