Package: GRaNIE Version: 1.15.0 Command: rm -rf GRaNIE.buildbin-libdir && mkdir GRaNIE.buildbin-libdir && /Users/biocbuild/BBS/utils/build-universal.sh GRaNIE_1.15.0.tar.gz /Library/Frameworks/R.framework/Resources/bin/R GRaNIE.buildbin-libdir StartedAt: 2025-11-26 01:49:01 -0500 (Wed, 26 Nov 2025) EndedAt: 2025-11-26 01:50:17 -0500 (Wed, 26 Nov 2025) EllapsedTime: 75.3 seconds RetCode: 0 Status: OK PackageFile: GRaNIE_1.15.0.tgz PackageFileSize: 8.879 MiB