Package: GRaNIE Version: 1.15.0 Command: /Library/Frameworks/R.framework/Resources/bin/R CMD INSTALL GRaNIE StartedAt: 2025-11-20 15:22:16 -0500 (Thu, 20 Nov 2025) EndedAt: 2025-11-20 15:22:36 -0500 (Thu, 20 Nov 2025) EllapsedTime: 19.6 seconds RetCode: 0 Status: OK