Package: GRaNIE Version: 1.15.0 Command: /Library/Frameworks/R.framework/Resources/bin/R CMD build --keep-empty-dirs --no-resave-data GRaNIE StartedAt: 2025-11-20 16:33:01 -0500 (Thu, 20 Nov 2025) EndedAt: 2025-11-20 16:34:44 -0500 (Thu, 20 Nov 2025) EllapsedTime: 103.2 seconds RetCode: 0 Status: OK PackageFile: GRaNIE_1.15.0.tar.gz PackageFileSize: 8.11 MiB