Package: GRaNIE Version: 1.15.0 Command: rm -rf GRaNIE.buildbin-libdir && mkdir GRaNIE.buildbin-libdir && /Users/biocbuild/BBS/utils/build-universal.sh GRaNIE_1.15.0.tar.gz /Library/Frameworks/R.framework/Resources/bin/R GRaNIE.buildbin-libdir StartedAt: 2025-11-20 23:36:03 -0500 (Thu, 20 Nov 2025) EndedAt: 2025-11-20 23:36:28 -0500 (Thu, 20 Nov 2025) EllapsedTime: 24.6 seconds RetCode: 0 Status: OK PackageFile: GRaNIE_1.15.0.tgz PackageFileSize: 9.027 MiB