Package: GRENITS Version: 1.63.0 Command: /home/biocbuild/bbs-3.23-bioc/R/bin/R CMD INSTALL GRENITS StartedAt: 2025-11-21 15:08:09 -0500 (Fri, 21 Nov 2025) EndedAt: 2025-11-21 15:09:29 -0500 (Fri, 21 Nov 2025) EllapsedTime: 80.5 seconds RetCode: 0 Status: OK