Package: GRENITS Version: 1.63.0 Command: /home/biocbuild/bbs-3.23-bioc/R/bin/R CMD build --keep-empty-dirs --no-resave-data GRENITS StartedAt: 2025-11-21 17:57:06 -0500 (Fri, 21 Nov 2025) EndedAt: 2025-11-21 17:58:44 -0500 (Fri, 21 Nov 2025) EllapsedTime: 97.1 seconds RetCode: 0 Status: OK PackageFile: GRENITS_1.63.0.tar.gz PackageFileSize: 266.6 KiB