Package: GRENITS Version: 1.63.0 Command: /Library/Frameworks/R.framework/Resources/bin/R CMD INSTALL GRENITS StartedAt: 2025-11-20 15:04:26 -0500 (Thu, 20 Nov 2025) EndedAt: 2025-11-20 15:04:56 -0500 (Thu, 20 Nov 2025) EllapsedTime: 29.7 seconds RetCode: 0 Status: OK