Package: GRENITS Version: 1.63.0 Command: /Library/Frameworks/R.framework/Resources/bin/R CMD build --keep-empty-dirs --no-resave-data GRENITS StartedAt: 2025-11-20 16:33:41 -0500 (Thu, 20 Nov 2025) EndedAt: 2025-11-20 16:34:13 -0500 (Thu, 20 Nov 2025) EllapsedTime: 32.4 seconds RetCode: 0 Status: OK PackageFile: GRENITS_1.63.0.tar.gz PackageFileSize: 266.6 KiB