Package: GRENITS Version: 1.63.0 Command: rm -rf GRENITS.buildbin-libdir && mkdir GRENITS.buildbin-libdir && /Users/biocbuild/BBS/utils/build-universal.sh GRENITS_1.63.0.tar.gz /Library/Frameworks/R.framework/Resources/bin/R GRENITS.buildbin-libdir StartedAt: 2025-11-20 23:36:08 -0500 (Thu, 20 Nov 2025) EndedAt: 2025-11-20 23:36:35 -0500 (Thu, 20 Nov 2025) EllapsedTime: 27.6 seconds RetCode: 0 Status: OK PackageFile: GRENITS_1.63.0.tgz PackageFileSize: 529.9 KiB