Package: GPA Version: 1.23.0 Command: /home/biocbuild/bbs-3.23-bioc/R/bin/R CMD build --keep-empty-dirs --no-resave-data GPA StartedAt: 2025-11-02 17:54:34 -0500 (Sun, 02 Nov 2025) EndedAt: 2025-11-02 17:56:26 -0500 (Sun, 02 Nov 2025) EllapsedTime: 112.1 seconds RetCode: 0 Status: OK PackageFile: GPA_1.23.0.tar.gz PackageFileSize: 311.2 KiB