Package: GPA Version: 1.23.0 Command: /Library/Frameworks/R.framework/Resources/bin/R CMD INSTALL GPA StartedAt: 2025-11-21 15:04:36 -0500 (Fri, 21 Nov 2025) EndedAt: 2025-11-21 15:04:41 -0500 (Fri, 21 Nov 2025) EllapsedTime: 5.3 seconds RetCode: 0 Status: OK