Package: GPA Version: 1.23.0 Command: /Library/Frameworks/R.framework/Resources/bin/R CMD build --keep-empty-dirs --no-resave-data GPA StartedAt: 2025-11-21 16:32:25 -0500 (Fri, 21 Nov 2025) EndedAt: 2025-11-21 16:33:23 -0500 (Fri, 21 Nov 2025) EllapsedTime: 58.6 seconds RetCode: 0 Status: OK PackageFile: GPA_1.23.0.tar.gz PackageFileSize: 311.3 KiB