Package: GPA Version: 1.23.0 Command: rm -rf GPA.buildbin-libdir && mkdir GPA.buildbin-libdir && /Users/biocbuild/BBS/utils/build-universal.sh GPA_1.23.0.tar.gz /Library/Frameworks/R.framework/Resources/bin/R GPA.buildbin-libdir StartedAt: 2025-11-20 23:35:58 -0500 (Thu, 20 Nov 2025) EndedAt: 2025-11-20 23:36:08 -0500 (Thu, 20 Nov 2025) EllapsedTime: 9.2 seconds RetCode: 0 Status: OK PackageFile: GPA_1.23.0.tgz PackageFileSize: 572.1 KiB