Package: GOstats Version: 2.77.0 Command: /home/biocbuild/bbs-3.23-bioc/R/bin/R CMD INSTALL GOstats StartedAt: 2025-11-23 15:41:06 -0500 (Sun, 23 Nov 2025) EndedAt: 2025-11-23 15:41:28 -0500 (Sun, 23 Nov 2025) EllapsedTime: 22.2 seconds RetCode: 0 Status: OK