Package: GOstats Version: 2.77.0 Command: /home/biocbuild/bbs-3.23-bioc/R/bin/R CMD build --keep-empty-dirs --no-resave-data GOstats StartedAt: 2025-11-23 17:56:18 -0500 (Sun, 23 Nov 2025) EndedAt: 2025-11-23 18:08:04 -0500 (Sun, 23 Nov 2025) EllapsedTime: 705.7 seconds RetCode: 0 Status: OK PackageFile: GOstats_2.77.0.tar.gz PackageFileSize: 3.522 MiB