Package: GOstats Version: 2.77.0 Command: /Library/Frameworks/R.framework/Resources/bin/R CMD build --keep-empty-dirs --no-resave-data GOstats StartedAt: 2025-11-27 17:11:03 -0500 (Thu, 27 Nov 2025) EndedAt: 2025-11-27 17:27:09 -0500 (Thu, 27 Nov 2025) EllapsedTime: 966.1 seconds RetCode: 0 Status: OK PackageFile: GOstats_2.77.0.tar.gz PackageFileSize: 2.892 MiB