Package: GOpro Version: 1.37.0 Command: /Library/Frameworks/R.framework/Resources/bin/R CMD build --keep-empty-dirs --no-resave-data GOpro StartedAt: 2025-11-21 16:31:35 -0500 (Fri, 21 Nov 2025) EndedAt: 2025-11-21 16:32:03 -0500 (Fri, 21 Nov 2025) EllapsedTime: 28.3 seconds RetCode: 0 Status: OK PackageFile: GOpro_1.37.0.tar.gz PackageFileSize: 1.057 MiB