Package: GOfuncR Version: 1.29.0 Command: /home/biocbuild/R/R/bin/R CMD INSTALL GOfuncR StartedAt: 2025-10-13 21:12:41 -0000 (Mon, 13 Oct 2025) EndedAt: 2025-10-13 21:14:58 -0000 (Mon, 13 Oct 2025) EllapsedTime: 136.9 seconds RetCode: 0 Status: OK