Package: GOfuncR Version: 1.31.0 Command: /home/biocbuild/bbs-3.23-bioc/R/bin/R CMD INSTALL GOfuncR StartedAt: 2025-11-04 15:33:17 -0500 (Tue, 04 Nov 2025) EndedAt: 2025-11-04 15:34:55 -0500 (Tue, 04 Nov 2025) EllapsedTime: 98.9 seconds RetCode: 0 Status: OK