Package: GOfuncR Version: 1.31.0 Command: /home/biocbuild/bbs-3.23-bioc/R/bin/R CMD build --keep-empty-dirs --no-resave-data GOfuncR StartedAt: 2025-11-04 17:50:08 -0500 (Tue, 04 Nov 2025) EndedAt: 2025-11-04 17:54:07 -0500 (Tue, 04 Nov 2025) EllapsedTime: 238.2 seconds RetCode: 0 Status: OK PackageFile: GOfuncR_1.31.0.tar.gz PackageFileSize: 5.193 MiB