Package: GOfuncR Version: 1.29.0 Command: /Library/Frameworks/R.framework/Resources/bin/R CMD INSTALL GOfuncR StartedAt: 2025-10-08 15:35:08 -0400 (Wed, 08 Oct 2025) EndedAt: 2025-10-08 15:37:12 -0400 (Wed, 08 Oct 2025) EllapsedTime: 123.9 seconds RetCode: 0 Status: OK