Package: GOfuncR Version: 1.29.0 Command: /Library/Frameworks/R.framework/Resources/bin/R CMD build --keep-empty-dirs --no-resave-data GOfuncR StartedAt: 2025-10-08 17:21:43 -0400 (Wed, 08 Oct 2025) EndedAt: 2025-10-08 17:27:30 -0400 (Wed, 08 Oct 2025) EllapsedTime: 347.5 seconds RetCode: 0 Status: OK PackageFile: GOfuncR_1.29.0.tar.gz PackageFileSize: 5.211 MiB