Package: GOfuncR Version: 1.30.0 Maintainer: Steffi Grote MaintainerEmail: grote.steffi at gmail.com git_url: https://git.bioconductor.org/packages/GOfuncR git_branch: RELEASE_3_22 git_last_commit: e9544dc git_last_commit_date: 2025-10-29 10:42:27 -0400 (Wed, 29 Oct 2025)