Package: GOexpress Version: 1.45.0 Command: /home/biocbuild/bbs-3.23-bioc/R/bin/R CMD INSTALL GOexpress StartedAt: 2025-11-20 15:26:03 -0500 (Thu, 20 Nov 2025) EndedAt: 2025-11-20 15:26:23 -0500 (Thu, 20 Nov 2025) EllapsedTime: 19.2 seconds RetCode: 0 Status: OK