Package: GOexpress Version: 1.45.0 Command: /Library/Frameworks/R.framework/Resources/bin/R CMD INSTALL GOexpress StartedAt: 2025-11-17 15:23:53 -0500 (Mon, 17 Nov 2025) EndedAt: 2025-11-17 15:24:20 -0500 (Mon, 17 Nov 2025) EllapsedTime: 26.4 seconds RetCode: 0 Status: OK