Package: GOexpress Version: 1.45.0 Command: /Library/Frameworks/R.framework/Resources/bin/R CMD build --keep-empty-dirs --no-resave-data GOexpress StartedAt: 2025-11-17 17:23:08 -0500 (Mon, 17 Nov 2025) EndedAt: 2025-11-17 17:23:50 -0500 (Mon, 17 Nov 2025) EllapsedTime: 42.3 seconds RetCode: 0 Status: OK PackageFile: GOexpress_1.45.0.tar.gz PackageFileSize: 2.343 MiB