Package: GOexpress Version: 1.43.1 Command: /Library/Frameworks/R.framework/Resources/bin/R CMD INSTALL GOexpress StartedAt: 2025-10-16 15:21:39 -0400 (Thu, 16 Oct 2025) EndedAt: 2025-10-16 15:21:47 -0400 (Thu, 16 Oct 2025) EllapsedTime: 7.9 seconds RetCode: 0 Status: OK