Package: GOexpress Version: 1.43.1 Command: /Library/Frameworks/R.framework/Resources/bin/R CMD build --keep-empty-dirs --no-resave-data GOexpress StartedAt: 2025-10-17 16:34:29 -0400 (Fri, 17 Oct 2025) EndedAt: 2025-10-17 16:34:46 -0400 (Fri, 17 Oct 2025) EllapsedTime: 17.2 seconds RetCode: 0 Status: OK PackageFile: GOexpress_1.43.1.tar.gz PackageFileSize: 2.345 MiB