Package: GOTHiC Version: 1.45.1 Command: /Library/Frameworks/R.framework/Resources/bin/R CMD INSTALL GOTHiC StartedAt: 2025-10-07 15:43:13 -0400 (Tue, 07 Oct 2025) EndedAt: 2025-10-07 15:44:06 -0400 (Tue, 07 Oct 2025) EllapsedTime: 53.1 seconds RetCode: 0 Status: OK