Package: GOTHiC Version: 1.45.1 Maintainer: Borbala Mifsud MaintainerEmail: b.mifsud at qmul.ac.uk git_url: https://git.bioconductor.org/packages/GOTHiC git_branch: devel git_last_commit: 957985e git_last_commit_date: 2025-07-22 20:01:31 -0400 (Tue, 22 Jul 2025)