Package: GOSemSim Version: 2.35.2 Command: /home/biocbuild/R/R/bin/R CMD build --keep-empty-dirs --no-resave-data GOSemSim StartedAt: 2025-10-14 00:44:36 -0000 (Tue, 14 Oct 2025) EndedAt: 2025-10-14 00:45:10 -0000 (Tue, 14 Oct 2025) EllapsedTime: 34.0 seconds RetCode: 0 Status: OK PackageFile: GOSemSim_2.35.2.tar.gz PackageFileSize: 596.3 KiB