Package: GOSemSim Version: 2.35.2 Command: /home/biocbuild/bbs-3.22-bioc/R/bin/R CMD INSTALL GOSemSim StartedAt: 2025-10-13 15:41:18 -0400 (Mon, 13 Oct 2025) EndedAt: 2025-10-13 15:41:40 -0400 (Mon, 13 Oct 2025) EllapsedTime: 22.7 seconds RetCode: 0 Status: OK