Package: GOSemSim Version: 2.35.2 Command: /home/biocbuild/bbs-3.22-bioc/R/bin/R CMD check --install=check:GOSemSim.install-out.txt --library=/home/biocbuild/bbs-3.22-bioc/R/site-library --timings GOSemSim_2.35.2.tar.gz StartedAt: 2025-10-14 00:41:13 -0400 (Tue, 14 Oct 2025) EndedAt: 2025-10-14 00:43:52 -0400 (Tue, 14 Oct 2025) EllapsedTime: 159.2 seconds RetCode: 0 Status: OK CheckDir: GOSemSim.Rcheck Warnings: 0