Package: GOSemSim Version: 2.37.0 Command: /home/biocbuild/bbs-3.23-bioc/R/bin/R CMD INSTALL GOSemSim StartedAt: 2025-11-04 15:43:48 -0500 (Tue, 04 Nov 2025) EndedAt: 2025-11-04 15:44:11 -0500 (Tue, 04 Nov 2025) EllapsedTime: 22.4 seconds RetCode: 0 Status: OK