Package: GOSemSim Version: 2.37.0 Command: /home/biocbuild/bbs-3.23-bioc/R/bin/R CMD check --install=check:GOSemSim.install-out.txt --library=/home/biocbuild/bbs-3.23-bioc/R/site-library --timings GOSemSim_2.37.0.tar.gz StartedAt: 2025-11-06 23:53:32 -0500 (Thu, 06 Nov 2025) EndedAt: 2025-11-06 23:56:00 -0500 (Thu, 06 Nov 2025) EllapsedTime: 148.2 seconds RetCode: 0 Status: OK CheckDir: GOSemSim.Rcheck Warnings: 0