Package: GOSemSim Version: 2.37.0 Command: /home/biocbuild/bbs-3.23-bioc/R/bin/R CMD build --keep-empty-dirs --no-resave-data GOSemSim StartedAt: 2025-11-05 17:57:32 -0500 (Wed, 05 Nov 2025) EndedAt: 2025-11-05 17:57:56 -0500 (Wed, 05 Nov 2025) EllapsedTime: 24.0 seconds RetCode: 0 Status: OK PackageFile: GOSemSim_2.37.0.tar.gz PackageFileSize: 594.9 KiB