Package: GNOSIS Version: 1.7.0 Command: /home/biocbuild/R/R/bin/R CMD INSTALL GNOSIS StartedAt: 2025-10-13 21:30:09 -0000 (Mon, 13 Oct 2025) EndedAt: 2025-10-13 21:31:26 -0000 (Mon, 13 Oct 2025) EllapsedTime: 76.9 seconds RetCode: 0 Status: OK