Package: GNOSIS Version: 1.7.0 Command: /home/biocbuild/R/R/bin/R CMD build --keep-empty-dirs --no-resave-data GNOSIS StartedAt: 2025-10-17 01:39:15 -0000 (Fri, 17 Oct 2025) EndedAt: 2025-10-17 01:40:59 -0000 (Fri, 17 Oct 2025) EllapsedTime: 104.0 seconds RetCode: 0 Status: OK PackageFile: GNOSIS_1.7.0.tar.gz PackageFileSize: 3.4 MiB