Package: GNOSIS Version: 1.7.0 Command: /home/biocbuild/bbs-3.22-bioc/R/bin/R CMD check --install=check:GNOSIS.install-out.txt --library=/home/biocbuild/bbs-3.22-bioc/R/site-library --timings GNOSIS_1.7.0.tar.gz StartedAt: 2025-10-23 00:28:44 -0400 (Thu, 23 Oct 2025) EndedAt: 2025-10-23 00:34:55 -0400 (Thu, 23 Oct 2025) EllapsedTime: 370.3 seconds RetCode: 0 Status: WARNINGS CheckDir: GNOSIS.Rcheck Warnings: 1