Package: GNOSIS Version: 1.9.0 Command: /home/biocbuild/bbs-3.23-bioc/R/bin/R CMD build --keep-empty-dirs --no-resave-data GNOSIS StartedAt: 2025-11-06 17:49:34 -0500 (Thu, 06 Nov 2025) EndedAt: 2025-11-06 17:49:50 -0500 (Thu, 06 Nov 2025) EllapsedTime: 16.0 seconds RetCode: 1 Status: ERROR PackageFile: None PackageFileSize: NA