############################################################################## ############################################################################## ### ### Running command: ### ### /home/biocbuild/bbs-3.23-bioc/R/bin/R CMD build --keep-empty-dirs --no-resave-data GNOSIS ### ############################################################################## ############################################################################## * checking for file ‘GNOSIS/DESCRIPTION’ ... OK * preparing ‘GNOSIS’: * checking DESCRIPTION meta-information ... OK * installing the package (it is needed to build vignettes) ----------------------------------- * installing *source* package ‘GNOSIS’ ... ** this is package ‘GNOSIS’ version ‘1.9.0’ ** using staged installation ** R ** inst ** byte-compile and prepare package for lazy loading Warning: replacing previous import ‘shinydashboard::taskItem’ by ‘shinydashboardPlus::taskItem’ when loading ‘GNOSIS’ Warning: replacing previous import ‘shinydashboard::dashboardHeader’ by ‘shinydashboardPlus::dashboardHeader’ when loading ‘GNOSIS’ Warning: replacing previous import ‘shinydashboard::box’ by ‘shinydashboardPlus::box’ when loading ‘GNOSIS’ Warning: replacing previous import ‘shinydashboard::messageItem’ by ‘shinydashboardPlus::messageItem’ when loading ‘GNOSIS’ Warning: replacing previous import ‘shinydashboard::dashboardSidebar’ by ‘shinydashboardPlus::dashboardSidebar’ when loading ‘GNOSIS’ Warning: replacing previous import ‘shinydashboard::dashboardPage’ by ‘shinydashboardPlus::dashboardPage’ when loading ‘GNOSIS’ Warning: replacing previous import ‘shinyWidgets::progressBar’ by ‘shinydashboardPlus::progressBar’ when loading ‘GNOSIS’ Warning: replacing previous import ‘shinydashboard::notificationItem’ by ‘shinydashboardPlus::notificationItem’ when loading ‘GNOSIS’ Warning: replacing previous import ‘shiny::dataTableOutput’ by ‘DT::dataTableOutput’ when loading ‘GNOSIS’ Warning: replacing previous import ‘shiny::renderDataTable’ by ‘DT::renderDataTable’ when loading ‘GNOSIS’ Error: object ‘microRNAs’ is not exported by 'namespace:GenomicFeatures' Execution halted ERROR: lazy loading failed for package ‘GNOSIS’ * removing ‘/tmp/RtmplPeOHN/Rinstfde6b4738e46/GNOSIS’ ----------------------------------- ERROR: package installation failed