Package: GNOSIS Version: 1.7.0 Command: /Library/Frameworks/R.framework/Resources/bin/R CMD INSTALL GNOSIS StartedAt: 2025-09-30 15:39:30 -0400 (Tue, 30 Sep 2025) EndedAt: 2025-09-30 15:40:57 -0400 (Tue, 30 Sep 2025) EllapsedTime: 87.1 seconds RetCode: 0 Status: OK