Package: GNOSIS Version: 1.7.0 Command: /Library/Frameworks/R.framework/Resources/bin/R CMD build --keep-empty-dirs --no-resave-data GNOSIS StartedAt: 2025-09-30 17:10:28 -0400 (Tue, 30 Sep 2025) EndedAt: 2025-09-30 17:12:08 -0400 (Tue, 30 Sep 2025) EllapsedTime: 100.4 seconds RetCode: 0 Status: OK PackageFile: GNOSIS_1.7.0.tar.gz PackageFileSize: 3.374 MiB