Package: GNET2 Version: 1.27.0 Command: /home/biocbuild/bbs-3.23-bioc/R/bin/R CMD INSTALL GNET2 StartedAt: 2025-11-03 15:17:47 -0500 (Mon, 03 Nov 2025) EndedAt: 2025-11-03 15:18:20 -0500 (Mon, 03 Nov 2025) EllapsedTime: 33.4 seconds RetCode: 0 Status: OK