Package: GNET2 Version: 1.27.0 Command: /home/biocbuild/bbs-3.23-bioc/R/bin/R CMD build --keep-empty-dirs --no-resave-data GNET2 StartedAt: 2025-11-03 17:48:35 -0500 (Mon, 03 Nov 2025) EndedAt: 2025-11-03 17:49:27 -0500 (Mon, 03 Nov 2025) EllapsedTime: 51.0 seconds RetCode: 0 Status: OK PackageFile: GNET2_1.27.0.tar.gz PackageFileSize: 740.2 KiB