Package: GMRP Version: 1.39.0 Command: /home/biocbuild/bbs-3.23-bioc/R/bin/R CMD build --keep-empty-dirs --no-resave-data GMRP StartedAt: 2025-11-20 17:54:10 -0500 (Thu, 20 Nov 2025) EndedAt: 2025-11-20 17:54:27 -0500 (Thu, 20 Nov 2025) EllapsedTime: 17.0 seconds RetCode: 0 Status: OK PackageFile: GMRP_1.39.0.tar.gz PackageFileSize: 897.5 KiB