Package: GMRP Version: 1.39.0 Command: /Library/Frameworks/R.framework/Resources/bin/R CMD INSTALL GMRP StartedAt: 2025-11-21 15:21:54 -0500 (Fri, 21 Nov 2025) EndedAt: 2025-11-21 15:22:08 -0500 (Fri, 21 Nov 2025) EllapsedTime: 14.0 seconds RetCode: 0 Status: OK